BEGIN:VCALENDAR
VERSION:2.0
PRODID:-//Welcome to the Silverado Sports Association! - ECPv6.15.17.1//NONSGML v1.0//EN
CALSCALE:GREGORIAN
METHOD:PUBLISH
X-WR-CALNAME:Welcome to the Silverado Sports Association!
X-ORIGINAL-URL:https://silveradosportsassociation.com
X-WR-CALDESC:Events for Welcome to the Silverado Sports Association!
REFRESH-INTERVAL;VALUE=DURATION:PT1H
X-Robots-Tag:noindex
X-PUBLISHED-TTL:PT1H
BEGIN:VTIMEZONE
TZID:America/Edmonton
BEGIN:DAYLIGHT
TZOFFSETFROM:-0700
TZOFFSETTO:-0600
TZNAME:MDT
DTSTART:20240310T090000
END:DAYLIGHT
BEGIN:STANDARD
TZOFFSETFROM:-0600
TZOFFSETTO:-0700
TZNAME:MST
DTSTART:20241103T080000
END:STANDARD
BEGIN:DAYLIGHT
TZOFFSETFROM:-0700
TZOFFSETTO:-0600
TZNAME:MDT
DTSTART:20250309T090000
END:DAYLIGHT
BEGIN:STANDARD
TZOFFSETFROM:-0600
TZOFFSETTO:-0700
TZNAME:MST
DTSTART:20251102T080000
END:STANDARD
BEGIN:DAYLIGHT
TZOFFSETFROM:-0700
TZOFFSETTO:-0600
TZNAME:MDT
DTSTART:20260308T090000
END:DAYLIGHT
BEGIN:STANDARD
TZOFFSETFROM:-0600
TZOFFSETTO:-0700
TZNAME:MST
DTSTART:20261101T080000
END:STANDARD
END:VTIMEZONE
BEGIN:VEVENT
DTSTART;TZID=America/Edmonton:20250613T080000
DTEND;TZID=America/Edmonton:20250614T170000
DTSTAMP:20260420T051434
CREATED:20250330T111023Z
LAST-MODIFIED:20260221T190259Z
UID:1015-1749801600-1749920400@silveradosportsassociation.com
SUMMARY:🌍 Multicultural Tournament - 2025
DESCRIPTION:13–14 June 2025 \nThe Multicultural Tournament 2025 brought together 8 teams representing diverse cultural communities across Calgary for a vibrant weekend of cricket and connection. \nWith 120+ players and families participating\, the tournament created meaningful opportunities for cross-cultural interaction both on and off the field. Teams proudly reflected Calgary’s multicultural fabric\, while matches showcased sportsmanship\, friendly competition\, and shared passion for the game. \nBeyond the cricket\, the event strengthened community bonds and celebrated diversity through sport – reinforcing SPL’s commitment to inclusion\, belonging\, and community building across cultures.
URL:https://silveradosportsassociation.com/event/%f0%9f%8c%8d-multicultural-tournament-2025/
LOCATION:Silverado Ground\, 128 Silverado Dr SW\, De Winton\, AB\, T0L 0X0\, Canada
ORGANIZER;CN="Silverado Sports Association":MAILTO:silveradosportsassociation@gmail.com
END:VEVENT
BEGIN:VEVENT
DTSTART;TZID=America/Edmonton:20250615T080000
DTEND;TZID=America/Edmonton:20250615T170000
DTSTAMP:20260420T051434
CREATED:20250530T110418Z
LAST-MODIFIED:20260221T190226Z
UID:1010-1749974400-1750006800@silveradosportsassociation.com
SUMMARY:🌸 SPL Spring Cricket Tournament - 2025
DESCRIPTION:15 June 2025 \nThe SPL Spring Cricket Tournament 2025 opened the season with a member-focused competition that reflected SPL’s commitment to inclusive and enjoyable cricket. \nAs the only league in Calgary intentionally structured to ensure every player has the opportunity to bat and meaningfully contribute\, the tournament highlighted the values of fair play\, equal participation\, and shared enjoyment. Players of varying experience levels competed together in balanced matches\, creating an encouraging and engaging environment for all. \nThe event set a positive tone for the season ahead\, strengthening camaraderie among members and reaffirming SPL’s mission to provide accessible\, community-focused cricket experiences in Calgary.
URL:https://silveradosportsassociation.com/event/%f0%9f%8c%b8-spl-spring-cricket-tournament-2025/
LOCATION:Silverado Ground\, 128 Silverado Dr SW\, De Winton\, AB\, T0L 0X0\, Canada
ORGANIZER;CN="Silverado Sports Association":MAILTO:silveradosportsassociation@gmail.com
END:VEVENT
BEGIN:VEVENT
DTSTART;TZID=America/Edmonton:20250622T080000
DTEND;TZID=America/Edmonton:20250831T170000
DTSTAMP:20260420T051434
CREATED:20250530T105529Z
LAST-MODIFIED:20260221T190331Z
UID:1008-1750579200-1756659600@silveradosportsassociation.com
SUMMARY:🏏 SSA Youth Cricket Camp - 2025
DESCRIPTION:22 June – 31 August 2025 \nThe SSA Youth Cricket Camp 2025 delivered an extended summer development experience for young cricketers\, running across 10+ structured sessions that blended focused skill training with live match practice. \nA total of 26 youth participants aged 5–16 took part in the program\, building technical cricket skills\, fitness\, confidence\, and teamwork in a supportive and energetic environment. A key focus of the camp was helping players apply learning in real-game situations\, ensuring that training translated directly into on-field performance. \nThe camp fostered steady growth across all age groups and experience levels\, while strengthening friendships and enthusiasm for the sport. By the end of the summer\, participants demonstrated noticeable improvement and a deeper love for cricket — a proud outcome for players\, coaches\, and families alike.
URL:https://silveradosportsassociation.com/event/%f0%9f%8f%8f-ssa-youth-cricket-camp-2025/
LOCATION:Silverado Ground\, 128 Silverado Dr SW\, De Winton\, AB\, T0L 0X0\, Canada
END:VEVENT
END:VCALENDAR