BEGIN:VCALENDAR
VERSION:2.0
PRODID:-//Welcome to the Silverado Sports Association! - ECPv6.15.17.1//NONSGML v1.0//EN
CALSCALE:GREGORIAN
METHOD:PUBLISH
X-WR-CALNAME:Welcome to the Silverado Sports Association!
X-ORIGINAL-URL:https://silveradosportsassociation.com
X-WR-CALDESC:Events for Welcome to the Silverado Sports Association!
REFRESH-INTERVAL;VALUE=DURATION:PT1H
X-Robots-Tag:noindex
X-PUBLISHED-TTL:PT1H
BEGIN:VTIMEZONE
TZID:America/Edmonton
BEGIN:DAYLIGHT
TZOFFSETFROM:-0700
TZOFFSETTO:-0600
TZNAME:MDT
DTSTART:20230312T090000
END:DAYLIGHT
BEGIN:STANDARD
TZOFFSETFROM:-0600
TZOFFSETTO:-0700
TZNAME:MST
DTSTART:20231105T080000
END:STANDARD
BEGIN:DAYLIGHT
TZOFFSETFROM:-0700
TZOFFSETTO:-0600
TZNAME:MDT
DTSTART:20240310T090000
END:DAYLIGHT
BEGIN:STANDARD
TZOFFSETFROM:-0600
TZOFFSETTO:-0700
TZNAME:MST
DTSTART:20241103T080000
END:STANDARD
BEGIN:DAYLIGHT
TZOFFSETFROM:-0700
TZOFFSETTO:-0600
TZNAME:MDT
DTSTART:20250309T090000
END:DAYLIGHT
BEGIN:STANDARD
TZOFFSETFROM:-0600
TZOFFSETTO:-0700
TZNAME:MST
DTSTART:20251102T080000
END:STANDARD
END:VTIMEZONE
BEGIN:VEVENT
DTSTART;TZID=America/Edmonton:20240921T080000
DTEND;TZID=America/Edmonton:20240921T170000
DTSTAMP:20260420T013527
CREATED:20240630T104505Z
LAST-MODIFIED:20260221T185955Z
UID:1025-1726905600-1726938000@silveradosportsassociation.com
SUMMARY:🏏 Battle of South – 2024
DESCRIPTION:The Battle of South – 2024 🏆 brought together 5 competitive teams and over 75 players from South Calgary for an exciting display of cricket talent 🏏🔥. \nBy hosting matches within the neighborhood\, players enjoyed the convenience of a local\, dedicated cricket pitch 🏟️\, saving time and resources while fostering stronger community connections 🤝. \nThe event celebrated teamwork\, sportsmanship\, and the growing passion for cricket in South Calgary ❤️🏏.
URL:https://silveradosportsassociation.com/event/battle-of-south-2024/
LOCATION:Silverado Ground\, 128 Silverado Dr SW\, De Winton\, AB\, T0L 0X0\, Canada
END:VEVENT
BEGIN:VEVENT
DTSTART;TZID=America/Edmonton:20240831T080000
DTEND;TZID=America/Edmonton:20240831T170000
DTSTAMP:20260420T013527
CREATED:20240630T104500Z
LAST-MODIFIED:20260221T185808Z
UID:1029-1725091200-1725123600@silveradosportsassociation.com
SUMMARY:🏏 Home of Silverado Sports Association – Cricket Field Opening Ceremony
DESCRIPTION:The Battle of South – 2024 🏆 tournament brought together 5 competitive teams and over 75 players from South Calgary for an exciting display of cricket talent 🏏🔥. \nBy hosting matches within the neighborhood\, players enjoyed the convenience of a local\, dedicated cricket pitch 🏟️\, saving time and resources while fostering stronger community connections 🤝. \nThe event highlighted teamwork\, sportsmanship\, and the growing passion for cricket in South Calgary ❤️🏏.
URL:https://silveradosportsassociation.com/event/%f0%9f%8f%8f-home-of-silverado-sports-association-cricket-field-opening-ceremony/
LOCATION:Silverado Ground\, 128 Silverado Dr SW\, De Winton\, AB\, T0L 0X0\, Canada
ORGANIZER;CN="Silverado Sports Association":MAILTO:silveradosportsassociation@gmail.com
END:VEVENT
END:VCALENDAR