BEGIN:VCALENDAR
VERSION:2.0
PRODID:-//Welcome to the Silverado Sports Association! - ECPv6.15.17.1//NONSGML v1.0//EN
CALSCALE:GREGORIAN
METHOD:PUBLISH
X-ORIGINAL-URL:https://silveradosportsassociation.com
X-WR-CALDESC:Events for Welcome to the Silverado Sports Association!
REFRESH-INTERVAL;VALUE=DURATION:PT1H
X-Robots-Tag:noindex
X-PUBLISHED-TTL:PT1H
BEGIN:VTIMEZONE
TZID:America/Edmonton
BEGIN:DAYLIGHT
TZOFFSETFROM:-0700
TZOFFSETTO:-0600
TZNAME:MDT
DTSTART:20250309T090000
END:DAYLIGHT
BEGIN:STANDARD
TZOFFSETFROM:-0600
TZOFFSETTO:-0700
TZNAME:MST
DTSTART:20251102T080000
END:STANDARD
BEGIN:DAYLIGHT
TZOFFSETFROM:-0700
TZOFFSETTO:-0600
TZNAME:MDT
DTSTART:20260308T090000
END:DAYLIGHT
BEGIN:STANDARD
TZOFFSETFROM:-0600
TZOFFSETTO:-0700
TZNAME:MST
DTSTART:20261101T080000
END:STANDARD
BEGIN:DAYLIGHT
TZOFFSETFROM:-0700
TZOFFSETTO:-0600
TZNAME:MDT
DTSTART:20270314T090000
END:DAYLIGHT
BEGIN:STANDARD
TZOFFSETFROM:-0600
TZOFFSETTO:-0700
TZNAME:MST
DTSTART:20271107T080000
END:STANDARD
END:VTIMEZONE
BEGIN:VEVENT
DTSTART;TZID=America/Edmonton:20260523T080000
DTEND;TZID=America/Edmonton:20260524T170000
DTSTAMP:20260419T231941
CREATED:20260329T170625Z
LAST-MODIFIED:20260329T170816Z
UID:1965-1779523200-1779642000@silveradosportsassociation.com
SUMMARY:SPL 2026 Spring League Member Tournament 🌸🏆
DESCRIPTION:Sport: Cricket 🏏\nWho: SSA Members only 🔐\nRegistration: Stay tuned! 📢 \n  \n  \n 
URL:https://silveradosportsassociation.com/event/spl-2026-spring-league-member-tournament-%f0%9f%8c%b8%f0%9f%8f%86/
LOCATION:Silverado Ground\, 128 Silverado Dr SW\, De Winton\, AB\, T0L 0X0\, Canada
ORGANIZER;CN="Silverado Sports Association":MAILTO:silveradosportsassociation@gmail.com
END:VEVENT
BEGIN:VEVENT
DTSTART;TZID=America/Edmonton:20260627T090000
DTEND;TZID=America/Edmonton:20260829T110000
DTSTAMP:20260419T231941
CREATED:20260329T170529Z
LAST-MODIFIED:20260418T004000Z
UID:1963-1782550800-1788001200@silveradosportsassociation.com
SUMMARY:SSA Youth Cricket Camp 2026 🏕️⚾
DESCRIPTION:Who: All youth (open to all ages) 👦👧 \nDates: June 27th 2026 to August 29th 2026\nDay: Saturdays\nTime: 09:00am to 11:00am \nRegistration: Stay tuned for details! 📢 \n  \n  \n 
URL:https://silveradosportsassociation.com/event/ssa-youth-cricket-camp-2026-%f0%9f%8f%95%ef%b8%8f%e2%9a%be/
LOCATION:Silverado Ground\, 128 Silverado Dr SW\, De Winton\, AB\, T0L 0X0\, Canada
ORGANIZER;CN="Silverado Sports Association":MAILTO:silveradosportsassociation@gmail.com
END:VEVENT
BEGIN:VEVENT
DTSTART;TZID=America/Edmonton:20260718T080000
DTEND;TZID=America/Edmonton:20260719T170000
DTSTAMP:20260419T231941
CREATED:20260329T170716Z
LAST-MODIFIED:20260329T170736Z
UID:1967-1784361600-1784480400@silveradosportsassociation.com
SUMMARY:SPL 2026 Summer League Member Tournament ☀️🔥
DESCRIPTION:Sport: Cricket 🏏\nWho: SSA Members only 🔐\nRegistration: Stay tuned! 📢 \n  \n  \n 
URL:https://silveradosportsassociation.com/event/spl-2026-summer-league-member-tournament-%e2%98%80%ef%b8%8f%f0%9f%94%a5/
LOCATION:Silverado Ground\, 128 Silverado Dr SW\, De Winton\, AB\, T0L 0X0\, Canada
ORGANIZER;CN="Silverado Sports Association":MAILTO:silveradosportsassociation@gmail.com
END:VEVENT
BEGIN:VEVENT
DTSTART;TZID=America/Edmonton:20260808T080000
DTEND;TZID=America/Edmonton:20260809T170000
DTSTAMP:20260419T231941
CREATED:20260329T170930Z
LAST-MODIFIED:20260329T170930Z
UID:1972-1786176000-1786294800@silveradosportsassociation.com
SUMMARY:Multicultural Cricket Tournament 2026 - ICICG Independence Cup
DESCRIPTION:Sport: Cricket 🏏\nWho: Open to all! 🎊\nRegistration: Stay tuned! 📢 \n  \n  \n 
URL:https://silveradosportsassociation.com/event/multicultural-cricket-tournament-2026-icicg-independence-cup/
LOCATION:Silverado Ground\, 128 Silverado Dr SW\, De Winton\, AB\, T0L 0X0\, Canada
ORGANIZER;CN="Silverado Sports Association":MAILTO:silveradosportsassociation@gmail.com
END:VEVENT
BEGIN:VEVENT
DTSTART;TZID=America/Edmonton:20260905T080000
DTEND;TZID=America/Edmonton:20260906T170000
DTSTAMP:20260419T231941
CREATED:20260329T171015Z
LAST-MODIFIED:20260329T171015Z
UID:1974-1788595200-1788714000@silveradosportsassociation.com
SUMMARY:SPL 2026 Fall League Member Tournament 🍂🏏
DESCRIPTION:Sport: Cricket 🏏\nWho: SSA Members only 🔐\nRegistration: Stay tuned! 📢 \n  \n  \n 
URL:https://silveradosportsassociation.com/event/spl-2026-fall-league-member-tournament-%f0%9f%8d%82%f0%9f%8f%8f/
LOCATION:Silverado Ground\, 128 Silverado Dr SW\, De Winton\, AB\, T0L 0X0\, Canada
ORGANIZER;CN="Silverado Sports Association":MAILTO:silveradosportsassociation@gmail.com
END:VEVENT
BEGIN:VEVENT
DTSTART;TZID=America/Edmonton:20260919T080000
DTEND;TZID=America/Edmonton:20260919T170000
DTSTAMP:20260419T231941
CREATED:20260329T171103Z
LAST-MODIFIED:20260329T171103Z
UID:1976-1789804800-1789837200@silveradosportsassociation.com
SUMMARY:Season End Event 2026 🎉👨‍👩‍👧‍👦
DESCRIPTION:What: Appreciation + family fun day! 🥳🎈\nWho: All SSA members & families ❤️\nRegistration: Stay tuned! 📢 \n  \n  \n 
URL:https://silveradosportsassociation.com/event/season-end-event-2026-%f0%9f%8e%89%f0%9f%91%a8%f0%9f%91%a9%f0%9f%91%a7%f0%9f%91%a6/
LOCATION:Silverado Ground\, 128 Silverado Dr SW\, De Winton\, AB\, T0L 0X0\, Canada
ORGANIZER;CN="Silverado Sports Association":MAILTO:silveradosportsassociation@gmail.com
END:VEVENT
END:VCALENDAR