BEGIN:VCALENDAR
VERSION:2.0
PRODID:-//Welcome to the Silverado Sports Association! - ECPv6.15.17.1//NONSGML v1.0//EN
CALSCALE:GREGORIAN
METHOD:PUBLISH
X-ORIGINAL-URL:https://silveradosportsassociation.com
X-WR-CALDESC:Events for Welcome to the Silverado Sports Association!
REFRESH-INTERVAL;VALUE=DURATION:PT1H
X-Robots-Tag:noindex
X-PUBLISHED-TTL:PT1H
BEGIN:VTIMEZONE
TZID:America/Edmonton
BEGIN:DAYLIGHT
TZOFFSETFROM:-0700
TZOFFSETTO:-0600
TZNAME:MDT
DTSTART:20250309T090000
END:DAYLIGHT
BEGIN:STANDARD
TZOFFSETFROM:-0600
TZOFFSETTO:-0700
TZNAME:MST
DTSTART:20251102T080000
END:STANDARD
BEGIN:DAYLIGHT
TZOFFSETFROM:-0700
TZOFFSETTO:-0600
TZNAME:MDT
DTSTART:20260308T090000
END:DAYLIGHT
BEGIN:STANDARD
TZOFFSETFROM:-0600
TZOFFSETTO:-0700
TZNAME:MST
DTSTART:20261101T080000
END:STANDARD
BEGIN:DAYLIGHT
TZOFFSETFROM:-0700
TZOFFSETTO:-0600
TZNAME:MDT
DTSTART:20270314T090000
END:DAYLIGHT
BEGIN:STANDARD
TZOFFSETFROM:-0600
TZOFFSETTO:-0700
TZNAME:MST
DTSTART:20271107T080000
END:STANDARD
END:VTIMEZONE
BEGIN:VEVENT
DTSTART;TZID=America/Edmonton:20260208T130000
DTEND;TZID=America/Edmonton:20260208T190000
DTSTAMP:20260419T151425
CREATED:20260102T124317Z
LAST-MODIFIED:20260221T181013Z
UID:997-1770555600-1770577200@silveradosportsassociation.com
SUMMARY:🏆 Carrom Tournament 2026 - Join the Fun!
DESCRIPTION:Hosted by: Silverado Sports Association\n \n \n🎯 Open to: \n\nMen’s Teams\nWomen’s Teams\n\n🎁 Prizes: \n\n🥇 1st Place: Trophy + $50\n🥈 Runner-Up: Trophy + $25\n\n📅 Date: February 8th\, 2026\n🕛 Time: 2 PM onwards \n📍 Venue: Community hall – Unit 92\, 9540 Bonaventure Dr\, Calgary\, AB T2J 0E5 \n💰 Participation Fee: $15 per player –  Includes light snacks & tea🍵 \n  \n \n🌟 Event Highlights: \n\n🤝 Friendly Competition\n🎉 Fun & Energetic Atmosphere\n🫂 Community Bonding\n\n  \n \n🎉 Sponsored by: \nAkshay Jejurkar\n📦 UPS Store – 📍 10816 Macleod Trail SW #440\, Calgary\, AB T2J 5N8 \n \n📞 Register Now — Limited Slots! \nFor Registration & Details\, contact: \n\n📱 Ravi Injal: (403) 861‑9498\n📱 Mihir Shinde: (587) 889‑0270\n📧 Email: silveradosportsassociation@gmail.com
URL:https://silveradosportsassociation.com/event/%f0%9f%8f%86-carrom-tournament-2026-join-the-fun/
LOCATION:Community Hall 9540\, 9540 Bonaventure Dr\, Unit 92\, CALGARY\, AB\, T2J 0E5\, Canada
ORGANIZER;CN="Silverado Sports Association":MAILTO:silveradosportsassociation@gmail.com
END:VEVENT
END:VCALENDAR