BEGIN:VCALENDAR
VERSION:2.0
PRODID:-//Welcome to the Silverado Sports Association! - ECPv6.15.17.1//NONSGML v1.0//EN
CALSCALE:GREGORIAN
METHOD:PUBLISH
X-ORIGINAL-URL:https://silveradosportsassociation.com
X-WR-CALDESC:Events for Welcome to the Silverado Sports Association!
REFRESH-INTERVAL;VALUE=DURATION:PT1H
X-Robots-Tag:noindex
X-PUBLISHED-TTL:PT1H
BEGIN:VTIMEZONE
TZID:America/Edmonton
BEGIN:DAYLIGHT
TZOFFSETFROM:-0700
TZOFFSETTO:-0600
TZNAME:MDT
DTSTART:20240310T090000
END:DAYLIGHT
BEGIN:STANDARD
TZOFFSETFROM:-0600
TZOFFSETTO:-0700
TZNAME:MST
DTSTART:20241103T080000
END:STANDARD
BEGIN:DAYLIGHT
TZOFFSETFROM:-0700
TZOFFSETTO:-0600
TZNAME:MDT
DTSTART:20250309T090000
END:DAYLIGHT
BEGIN:STANDARD
TZOFFSETFROM:-0600
TZOFFSETTO:-0700
TZNAME:MST
DTSTART:20251102T080000
END:STANDARD
BEGIN:DAYLIGHT
TZOFFSETFROM:-0700
TZOFFSETTO:-0600
TZNAME:MDT
DTSTART:20260308T090000
END:DAYLIGHT
BEGIN:STANDARD
TZOFFSETFROM:-0600
TZOFFSETTO:-0700
TZNAME:MST
DTSTART:20261101T080000
END:STANDARD
END:VTIMEZONE
BEGIN:VEVENT
DTSTART;TZID=America/Edmonton:20250613T080000
DTEND;TZID=America/Edmonton:20250614T170000
DTSTAMP:20260420T072628
CREATED:20250330T111023Z
LAST-MODIFIED:20260221T190259Z
UID:1015-1749801600-1749920400@silveradosportsassociation.com
SUMMARY:🌍 Multicultural Tournament - 2025
DESCRIPTION:13–14 June 2025 \nThe Multicultural Tournament 2025 brought together 8 teams representing diverse cultural communities across Calgary for a vibrant weekend of cricket and connection. \nWith 120+ players and families participating\, the tournament created meaningful opportunities for cross-cultural interaction both on and off the field. Teams proudly reflected Calgary’s multicultural fabric\, while matches showcased sportsmanship\, friendly competition\, and shared passion for the game. \nBeyond the cricket\, the event strengthened community bonds and celebrated diversity through sport – reinforcing SPL’s commitment to inclusion\, belonging\, and community building across cultures.
URL:https://silveradosportsassociation.com/event/%f0%9f%8c%8d-multicultural-tournament-2025/
LOCATION:Silverado Ground\, 128 Silverado Dr SW\, De Winton\, AB\, T0L 0X0\, Canada
ORGANIZER;CN="Silverado Sports Association":MAILTO:silveradosportsassociation@gmail.com
END:VEVENT
END:VCALENDAR