BEGIN:VCALENDAR
VERSION:2.0
PRODID:-//Welcome to the Silverado Sports Association! - ECPv6.15.17.1//NONSGML v1.0//EN
CALSCALE:GREGORIAN
METHOD:PUBLISH
X-ORIGINAL-URL:https://silveradosportsassociation.com
X-WR-CALDESC:Events for Welcome to the Silverado Sports Association!
REFRESH-INTERVAL;VALUE=DURATION:PT1H
X-Robots-Tag:noindex
X-PUBLISHED-TTL:PT1H
BEGIN:VTIMEZONE
TZID:America/Edmonton
BEGIN:DAYLIGHT
TZOFFSETFROM:-0700
TZOFFSETTO:-0600
TZNAME:MDT
DTSTART:20240310T090000
END:DAYLIGHT
BEGIN:STANDARD
TZOFFSETFROM:-0600
TZOFFSETTO:-0700
TZNAME:MST
DTSTART:20241103T080000
END:STANDARD
BEGIN:DAYLIGHT
TZOFFSETFROM:-0700
TZOFFSETTO:-0600
TZNAME:MDT
DTSTART:20250309T090000
END:DAYLIGHT
BEGIN:STANDARD
TZOFFSETFROM:-0600
TZOFFSETTO:-0700
TZNAME:MST
DTSTART:20251102T080000
END:STANDARD
BEGIN:DAYLIGHT
TZOFFSETFROM:-0700
TZOFFSETTO:-0600
TZNAME:MDT
DTSTART:20260308T090000
END:DAYLIGHT
BEGIN:STANDARD
TZOFFSETFROM:-0600
TZOFFSETTO:-0700
TZNAME:MST
DTSTART:20261101T080000
END:STANDARD
END:VTIMEZONE
BEGIN:VEVENT
DTSTART;TZID=America/Edmonton:20250426T080000
DTEND;TZID=America/Edmonton:20250511T170000
DTSTAMP:20260420T085742
CREATED:20240630T104909Z
LAST-MODIFIED:20260221T183533Z
UID:1017-1745654400-1746982800@silveradosportsassociation.com
SUMMARY:🌱 SSA Spring Tournament - 2025
DESCRIPTION:26 April – 11 May 2025 \nThe SSA Spring Tournament 2025 launched the outdoor season with a multi-week competition featuring 8 teams and 120+ players from South Calgary. \nBy providing regular competitive matches close to home\, the tournament improved accessibility and consistency for local players and families\, reducing travel barriers while increasing opportunities to participate in organized cricket. The extended format supported skill development\, team cohesion\, and sustained engagement across the community. \nThe event strengthened cricket participation in South Calgary and reinforced SSA’s commitment to growing accessible\, community-based sport opportunities throughout the region.
URL:https://silveradosportsassociation.com/event/%f0%9f%8c%b1-ssa-spring-tournament-2025/
LOCATION:Silverado Ground\, 128 Silverado Dr SW\, De Winton\, AB\, T0L 0X0\, Canada
ORGANIZER;CN="Silverado Sports Association":MAILTO:silveradosportsassociation@gmail.com
END:VEVENT
END:VCALENDAR